
BEGIN:VCALENDAR
VERSION:2.0
PRODID:-//Departamento de Computación - ECPv6.15.18//NONSGML v1.0//EN
CALSCALE:GREGORIAN
METHOD:PUBLISH
X-WR-CALNAME:Departamento de Computación
X-ORIGINAL-URL:https://www.dc.uba.ar
X-WR-CALDESC:Eventos para Departamento de Computación
REFRESH-INTERVAL;VALUE=DURATION:PT1H
X-Robots-Tag:noindex
X-PUBLISHED-TTL:PT1H
BEGIN:VTIMEZONE
TZID:America/Sao_Paulo
BEGIN:STANDARD
TZOFFSETFROM:-0300
TZOFFSETTO:-0300
TZNAME:-03
DTSTART:20210101T000000
END:STANDARD
END:VTIMEZONE
BEGIN:VEVENT
DTSTART;TZID=America/Sao_Paulo:20220712T140000
DTEND;TZID=America/Sao_Paulo:20220712T160000
DTSTAMP:20260420T151413
CREATED:20220330T181812Z
LAST-MODIFIED:20220330T181812Z
UID:7441-1657634400-1657641600@www.dc.uba.ar
SUMMARY:Reunión de Comisión de Doctorado - julio 2022
DESCRIPTION:Se tratará lo que se incluya  hasta el 30/06 hasta las 16 hs.
URL:https://www.dc.uba.ar/event/reunion-de-comision-de-doctorado-julio-2022/
CATEGORIES:Subcomisión de Doctorado
END:VEVENT
BEGIN:VEVENT
DTSTART;TZID=America/Sao_Paulo:20220712T150000
DTEND;TZID=America/Sao_Paulo:20220712T160000
DTSTAMP:20260420T151413
CREATED:20220708T121241Z
LAST-MODIFIED:20220708T121241Z
UID:7622-1657638000-1657641600@www.dc.uba.ar
SUMMARY:Defensa Tesis Licenciatura Julio Augusto Mascitti
DESCRIPTION:Título: Impacto de la red FIBRE en Bitcoin: ¿Los mineros crearon un sistema casi centralizado?\nDirector: Esteban Mocskos\nJurados: Agustín Martínez Suñé y Esteban Lanzarotti \nResumen:\n======== \nEn 2008\, alguien bajo el pseudónimo de Satoshi Nakamoto propuso una solución computacional al problema de intercambiar valor entre participantes desconocidos sin la necesidad de un tercero de confianza que medie dichas transacciones. De esta manera nació Bitcoin y revolucionó la industria financiera proveyendo un sistema distribuido sin la necesidad de una autoridad central que regule las transacciones. Este sistema comenzó a ser una alternativa real a los sistemas bancarios tradicionales. A fines de 2018 durante uno de los principales picos de utilización de las criptomonedas\, se pusieron de manifiesto distin-\ntos problemas operativos. Por ejemplo\, se evidenció la limitada capacidad de procesar un volumen importante de transacciones.\nComo una forma de disminuir los cuellos de botella que presenta Bitcoin\, se propuso la utilización de redes de retransmisión. Una red de retransmisión plantea una modificación a la forma en que se distribuye la información entre pares\, buscando que algunos nodos seleccionados de la red tengan prioridad para el intercambio de información en lugar de\nusar la propuesta original de Bitcoin.\nEn esta tesis nos enfocamos en analizar el impacto de las redes de retransmisión\, intentando verificar si son una alternativa viable que mejora las prestaciones del sistema. Para tal fin\, generamos toda la infraestructura necesaria para ejecutar un sistema Bitcoin sobre una\nred emulada considerando todos los actores necesarios en condiciones similares a las reales. Los experimentos se realizan utilizando los clientes del protocolo Bitcoin real con unas mínimas modificaciones que permiten modelar el proceso de minado de un bloque sin tener que utilizar recursos del hardware para tal fin. Se realizaron las mediciones de interés una vez que el sistema ha generado 500 bloques para poder disminuir los posibles efectos artificiales originados durante la etapa inicial de funcionamiento del sistema.\nComo resultado principal\, pudimos concluir que las redes de retransmisión otorgan interesantes beneficios al sistema a la hora de aumentar la velocidad de consenso y disminuir el desperdicio de recursos. Por otro lado\, pudimos verificar que la utilización de las redes de retransmisión no llevan a una mayor centralización del sistema ya que aquellos clientes que usufructúan esta red no consiguieron mejorar su participación en término de recompensa.\nSin embargo\, lo que sí consiguieron fue ser más eficientes. No solo el sistema en general\nmejoró su eficiencia\, sino que aquellos clientes que estaban al alcance de la red de retransmisión consiguieron tener una mejora proporcionalmente mayor al resto de los clientes del sistema.
URL:https://www.dc.uba.ar/event/defensa-tesis-licenciatura-julio-augusto-mascitti/
LOCATION:Sala 1606
CATEGORIES:Agenda
END:VEVENT
END:VCALENDAR