
BEGIN:VCALENDAR
VERSION:2.0
PRODID:-//Departamento de Computación - ECPv6.15.18//NONSGML v1.0//EN
CALSCALE:GREGORIAN
METHOD:PUBLISH
X-WR-CALNAME:Departamento de Computación
X-ORIGINAL-URL:https://www.dc.uba.ar
X-WR-CALDESC:Eventos para Departamento de Computación
REFRESH-INTERVAL;VALUE=DURATION:PT1H
X-Robots-Tag:noindex
X-PUBLISHED-TTL:PT1H
BEGIN:VTIMEZONE
TZID:America/Sao_Paulo
BEGIN:STANDARD
TZOFFSETFROM:-0300
TZOFFSETTO:-0300
TZNAME:-03
DTSTART:20210101T000000
END:STANDARD
END:VTIMEZONE
BEGIN:VEVENT
DTSTART;TZID=America/Sao_Paulo:20220614T140000
DTEND;TZID=America/Sao_Paulo:20220614T160000
DTSTAMP:20260420T014837
CREATED:20220330T181709Z
LAST-MODIFIED:20220330T181709Z
UID:7439-1655215200-1655222400@www.dc.uba.ar
SUMMARY:Reunión de Comisión de Doctorado - junio 2022
DESCRIPTION:Se tratará lo que se incluya  hasta el 02/06 hasta las 16 hs.
URL:https://www.dc.uba.ar/event/reunion-de-comision-de-doctorado-junio-2022/
CATEGORIES:Subcomisión de Doctorado
END:VEVENT
END:VCALENDAR