
BEGIN:VCALENDAR
VERSION:2.0
PRODID:-//Departamento de Computación - ECPv6.15.18//NONSGML v1.0//EN
CALSCALE:GREGORIAN
METHOD:PUBLISH
X-WR-CALNAME:Departamento de Computación
X-ORIGINAL-URL:https://www.dc.uba.ar
X-WR-CALDESC:Eventos para Departamento de Computación
REFRESH-INTERVAL;VALUE=DURATION:PT1H
X-Robots-Tag:noindex
X-PUBLISHED-TTL:PT1H
BEGIN:VTIMEZONE
TZID:America/Sao_Paulo
BEGIN:STANDARD
TZOFFSETFROM:-0300
TZOFFSETTO:-0300
TZNAME:-03
DTSTART:20210101T000000
END:STANDARD
END:VTIMEZONE
BEGIN:VEVENT
DTSTART;TZID=America/Sao_Paulo:20220428T130000
DTEND;TZID=America/Sao_Paulo:20220428T140000
DTSTAMP:20260423T031854
CREATED:20220421T143728Z
LAST-MODIFIED:20220421T143728Z
UID:7471-1651150800-1651154400@www.dc.uba.ar
SUMMARY:Defensa Tesis Licenciatura Santiago Cifuentes
DESCRIPTION:Título: Sobre la complejidad del problema de encontrar data-graph repairs bajo restricciones de nodos y caminos \n Director: Maria Vanina Martinez y Ricardo O. Rodriguez\nJurados: Santiago Figueira  y Pablo Barenbaum \n\nResumen:\nLas bases de datos con forma de grafo representan de una forma efectiva relaciones binarias entre entidades\, y permiten procesar y consultar por conexiones no triviales de forma eficiente. Como en el caso relacional\, se espera que los datos preserven un conjunto de restricciones de integridad que capturen la estructura semántica del mundo que representan. Un posible enfoque para lidiar con bases de datos que no satisfacen su conjunto de reglas de integridad consiste en reemplazarlas por una nueva base de datos ‘similar’ a la original\, pero que satisfaga el conjunto de restricciones. Es decir\, un repair de la base de datos original. En este trabajo estudiamos el problema de computar (subset y superset) repairs de bases de datos con forma de grafo con datos en los nodos usando una noción de consistencia basada en conjuntos de expresiones del lenguaje Reg-GXPath\, interpretadas como restricciones de integridad. Demostramos que para los fragmentos positivos de Reg-GXPath estos problemas admiten algoritmos polinomiales mientras que el poder expresivo completo del lenguaje vuelve el problema intratable. Finalmente\, también estudiamos el problema de computar preferred repairs sobre dos criterios de preferencia distintos\, mostrando que en la mayor´ıa de los casos la complejidad computacional del problema no cambia.
URL:https://www.dc.uba.ar/event/defensa-tesis-licenciatura-santiago-cifuentes/
LOCATION:Aula 1604
CATEGORIES:Agenda
END:VEVENT
END:VCALENDAR